BEGIN:VCALENDAR
VERSION:2.0
PRODID:-//Protocol Caribbean - ECPv5.14.1//NONSGML v1.0//EN
CALSCALE:GREGORIAN
METHOD:PUBLISH
X-WR-CALNAME:Protocol Caribbean
X-ORIGINAL-URL:https://protocolcaribbean.com
X-WR-CALDESC:Events for Protocol Caribbean
BEGIN:VTIMEZONE
TZID:America/Grenada
BEGIN:STANDARD
TZOFFSETFROM:-0400
TZOFFSETTO:-0400
TZNAME:AST
DTSTART:20190101T000000
END:STANDARD
END:VTIMEZONE
BEGIN:VEVENT
DTSTART;TZID=America/Grenada:20190715T090000
DTEND;TZID=America/Grenada:20190719T150000
DTSTAMP:20260421T065444
CREATED:20190114T163301Z
LAST-MODIFIED:20190114T163301Z
UID:210857-1563181200-1563548400@protocolcaribbean.com
SUMMARY:The Children's Etiquette Workshop
DESCRIPTION:The Children’s Etiquette Workshop is hosted for  one week during the summer holidays by Alice Thomas-Roberts and her team of experienced teachers. Alice Thomas-Roberts is a Training and Development Consultant with several years of experience as Chief of Protocol and Senior Foreign Service Officer in the Ministry of Foreign Affairs and as Executive Director of the Grenada Hotel and Tourism Association\, a private sector organization.   https://protocolcaribbean.com/workshops/ \nThe Children’s Etiquette Workshop\, is a great way for children to spend part of their summer vacation as the courtesies\, values and principles they will learn will guide them for the rest of their lives.https://traineralice.wordpress.com/ \nDuring this workshop\, they will learn General Courtesies\, Social and Conversation Skills\, Dining Etiquette\, Telephone & Cell Phone Courtesies\, Posture\, Image\, Confidence\, Appearance and other subjects relating to personal development. They will also have the opportunity each day to illustrate what they learned in practical sessions such as role play\, group activities and artistic work\, and will visit a restaurant one day to practise their dining etiquette skills. \nDate: Mon 15th July – Friday 19th July\, 2019 \nTime: 9:00 a.m – 3:00 p.m daily \nVenue: To be finalized \nCost: EC $150 per Child. Children may also be registered for specific days for a per day fee. \nCertificates of Participation will be presented to each child at the end of this workshop. \nParents are also welcome to contribute or part-sponsor the workshop in lieu of payment for their children. \nFor more information or to register a child\, complete the contact form below\, or call 473 405 0027 or email amthomasroberts@gmail.com. \nChildren should be registered by 1st July\, 2019. \n\n\n\n\nName(required)\n\n	\n\n\nEmail(required)\n\n	\n\n\nWebsite\n\n	\n\n\nMessage\n\n	\n	\n		Submit		\n		\n		\n	 \nΔ
URL:https://protocolcaribbean.com/event/childrens-etiquette-workshop/
ATTACH;FMTTYPE=image/jpeg:https://protocolcaribbean.com/wp-content/uploads/2019/01/687890c0-fe19-4220-a4c1-f7e47b107346.jpg
ORGANIZER;CN="Alice%20Thomas-Roberts":MAILTO:amthomasroberts@gmail.com
END:VEVENT
END:VCALENDAR