BEGIN:VCALENDAR
VERSION:2.0
PRODID:-//Protocol Caribbean - ECPv5.14.1//NONSGML v1.0//EN
CALSCALE:GREGORIAN
METHOD:PUBLISH
X-WR-CALNAME:Protocol Caribbean
X-ORIGINAL-URL:https://protocolcaribbean.com
X-WR-CALDESC:Events for Protocol Caribbean
BEGIN:VTIMEZONE
TZID:America/Grenada
BEGIN:STANDARD
TZOFFSETFROM:-0400
TZOFFSETTO:-0400
TZNAME:AST
DTSTART:20210101T000000
END:STANDARD
END:VTIMEZONE
BEGIN:VEVENT
DTSTART;TZID=America/Grenada:20210410T093000
DTEND;TZID=America/Grenada:20210410T160000
DTSTAMP:20260421T102149
CREATED:20210211T163941Z
LAST-MODIFIED:20210301T190252Z
UID:210982-1618047000-1618070400@protocolcaribbean.com
SUMMARY:Creating PowerPoints For Impactful Presentations
DESCRIPTION:Protocol  Caribbean is offering individuals the opportunity to understand and use the tools of PowerPoint to create and make impactful presentations. \nThis is a practical one day workshop scheduled for Saturday 10th April\, 2021 from 9:30 a.m – 4:00 p.m. The Facilitator will be Alice Thomas-Roberts\, Protocol and Etiquette Training Consultant and Author.             \nSub-topics  of the day’s programme will be: \n\nAdvantages and Uses of PowerPoint Presentations\nChoosing Appropriate Designs\nUnderstanding PowerPoint Tools\nUsing Animations and Transitions\nAdding Appropriate Pictures\, Music & Videos\nPractical Session – Personal Presentations\n\nTips and tricks to impress and keep your audience focused will be shared throughout the workshop. \nWho Should Attend: \n\nThose who need to make presentations to small or large groups at work\, school\, church\, community or other social groups\nThose who need to promote products or services\nTeachers and Lecturers\nAnyone who wants to be more comfortable with presenting in public.\n\nExpectations \nParticipants will be expected to bring along laptops\, to create a PowerPoint presentation from blank slides\, and to present to the class towards the end of the workshop. \nParticipants will be entitled to a Certificate of Achievement. \nCovid19 regulations will be in effect. \nPayment Details  \nCost per attendee:  EC $230 per person       \nSpecial rates for Groups or for more than 1 person attending from the same organization.  \nFor more information\, interested persons should complete the Contact Form below or Call (473) 405 0027. \n\n\n\n\nName(required)\n\n	\n\n\nEmail(required)\n\n	\n\n\nWebsite\n\n	\n\n\nMessage\n\n	\n	\n		Submit		\n		\n		\n	 \nΔ \n\n 
URL:https://protocolcaribbean.com/event/creating-powerpoints-for-impactful-presentations/
LOCATION:Alice Roberts Meeting Room\, Tempe\, St. George\, -------\, -------\, Grenada
ATTACH;FMTTYPE=image/jpeg:https://protocolcaribbean.com/wp-content/uploads/2021/01/MG_1536-2-1.jpg
ORGANIZER;CN="Alice%20Thomas-Roberts":MAILTO:amthomasroberts@gmail.com
END:VEVENT
END:VCALENDAR