BEGIN:VCALENDAR
VERSION:2.0
PRODID:-//Protocol Caribbean - ECPv5.14.1//NONSGML v1.0//EN
CALSCALE:GREGORIAN
METHOD:PUBLISH
X-WR-CALNAME:Protocol Caribbean
X-ORIGINAL-URL:https://protocolcaribbean.com
X-WR-CALDESC:Events for Protocol Caribbean
BEGIN:VTIMEZONE
TZID:America/Grenada
BEGIN:STANDARD
TZOFFSETFROM:-0400
TZOFFSETTO:-0400
TZNAME:AST
DTSTART:20250101T000000
END:STANDARD
END:VTIMEZONE
BEGIN:VEVENT
DTSTART;TZID=America/Grenada:20251007T170000
DTEND;TZID=America/Grenada:20251007T190000
DTSTAMP:20260421T065850
CREATED:20250520T125329Z
LAST-MODIFIED:20250520T125329Z
UID:212629-1759856400-1759863600@protocolcaribbean.com
SUMMARY:Leading From The Middle © An online evening seminar
DESCRIPTION:Protocol Caribbean will once again host its inspiring online seminar titled ‘Leading From the Middle © on Tuesday 7th October\, 2025 from 5:00 –7:00 p.m\, Atlantic Standard Time. This seminar will be hosted by Alice Thomas-Roberts\, Protocol and Etiquette Training Consultant.                                                     \nLeading From the Middle © is best suited for Supervisors\, Middle Managers and other senior personnel who mentor junior and or new staff\, and are responsible to communicate the vision of their Employer to those they supervise.  Attendees will finish this seminar understanding the skills needed to be a good leader\, knowing how to find creative ways to inspire their team members to work towards excellence and towards departmental or company goals and objectives; and moreover\, feeling more confident about their own roles and responsibilities. \nIndividuals who lead groups and organizations will also find this seminar useful in providing helpful tips to enhance their leadership and team-building skills. \nSub-topics : You as a Leader\,  Your Employer’s Mission & Vision\, Ways to Acquire Leadership Skills\, Characteristics of An Effective Leader\, Supervisory Roles & Responsibilities\, Mentoring & Influencing Skills\, Handling Difficult Communication\, Managing Team Meetings\, Motivating Your Team. \nThis is an online seminar\, and attendees will need internet access on a computer or other device. \nCost per attendee  US $40           \nTo register\, or for more information\, interested persons should complete the Contact Form below\, after which an email will be sent to them with payment options. The link to access the seminar will be made available on payment. \n\n\n\n\nName(required)\n\n	\n\n\nEmail(required)\n\n	\n\n\nWebsite\n\n	\n\n\nMessage\n\n	\n	\n		Submit		\n		\n		\n	 \nΔ
URL:https://protocolcaribbean.com/event/leading-from-the-middle-an-online-evening-seminar/
LOCATION:Via Zoom
ATTACH;FMTTYPE=image/jpeg:https://protocolcaribbean.com/wp-content/uploads/2025/05/In-Office--scaled.jpg
ORGANIZER;CN="Alice%20Thomas-Roberts":MAILTO:amthomasroberts@gmail.com
END:VEVENT
END:VCALENDAR