BEGIN:VCALENDAR
VERSION:2.0
PRODID:-//Protocol Caribbean - ECPv5.14.1//NONSGML v1.0//EN
CALSCALE:GREGORIAN
METHOD:PUBLISH
X-WR-CALNAME:Protocol Caribbean
X-ORIGINAL-URL:https://protocolcaribbean.com
X-WR-CALDESC:Events for Protocol Caribbean
BEGIN:VTIMEZONE
TZID:America/Grenada
BEGIN:STANDARD
TZOFFSETFROM:-0400
TZOFFSETTO:-0400
TZNAME:AST
DTSTART:20230101T000000
END:STANDARD
END:VTIMEZONE
BEGIN:VEVENT
DTSTART;TZID=America/Grenada:20230427T170000
DTEND;TZID=America/Grenada:20230427T190000
DTSTAMP:20260421T234123
CREATED:20230309T135953Z
LAST-MODIFIED:20230309T135953Z
UID:211469-1682614800-1682622000@protocolcaribbean.com
SUMMARY:Leading From The Middle© - An Evening Seminar for Supervisors and Middle Managers
DESCRIPTION:Leading From the Middle © \nProtocol Caribbean will once again host its inspiring online seminar titled ‘Leading From the Middle © on Thursday 27th April\, 2023 from 5:00 –7:00 p.m\, Atlantic Standard Time. This seminar will be hosted by Alice Thomas-Roberts\, Protocol and Etiquette Training Consultant.                                                      \nLeading From the Middle © is best suited for Supervisors\, Middle Managers and other senior personnel who mentor junior and or newer staff\, and are responsible to communicate the vision of their Employer to those they supervise.  Attendees will finish this seminar understanding the skills needed to be a good leader\, knowing how to inspire and motivate their team members toward the objectives of their department/ company; and moreover\, feeling more confident about their roles and responsibilities. \nIndividuals who lead groups and organizations will also find this seminar useful in providing helpful tips to enhance their leadership and team building skills. \nSeminar details: You as a Leader\,  Your Employer’s Mission & Vision\, Ways to Acquire Leadership Skills\, Characteristics of An Effective Leader\, Supervisory Roles & Responsibilities\, Mentoring & Influencing Skills\, Handling Difficult Communication\, Managing Team Meetings\, Motivating Your Team. \nThis is an online seminar\, and attendees will need internet access on a computer or other device. \nCost per attendee  US $50           \nTo register\, or for more information\, interested persons should complete the Contact Form below.  The link to access the seminar will be made available on payment. \n\n\n\n\nName(required)\n\n	\n\n\nEmail(required)\n\n	\n\n\nWebsite\n\n	\n\n\nMessage\n\n	\n	\n		Submit		\n		\n		\n	 \nΔ
URL:https://protocolcaribbean.com/event/leading-from-the-middle/
LOCATION:Via Zoom
ATTACH;FMTTYPE=image/jpeg:https://protocolcaribbean.com/wp-content/uploads/2023/03/DSC_0090-scaled.jpg
ORGANIZER;CN="Alice%20Thomas-Roberts":MAILTO:amthomasroberts@gmail.com
END:VEVENT
END:VCALENDAR