BEGIN:VCALENDAR
VERSION:2.0
PRODID:-//Protocol Caribbean - ECPv5.14.1//NONSGML v1.0//EN
CALSCALE:GREGORIAN
METHOD:PUBLISH
X-WR-CALNAME:Protocol Caribbean
X-ORIGINAL-URL:https://protocolcaribbean.com
X-WR-CALDESC:Events for Protocol Caribbean
BEGIN:VTIMEZONE
TZID:America/Grenada
BEGIN:STANDARD
TZOFFSETFROM:-0400
TZOFFSETTO:-0400
TZNAME:AST
DTSTART:20210101T000000
END:STANDARD
END:VTIMEZONE
BEGIN:VEVENT
DTSTART;TZID=America/Grenada:20210503T170000
DTEND;TZID=America/Grenada:20210503T183000
DTSTAMP:20260421T100012
CREATED:20210423T212406Z
LAST-MODIFIED:20210423T225743Z
UID:211089-1620061200-1620066600@protocolcaribbean.com
SUMMARY:Online Course - Managing Conflict Within Your Team: A Necessary Skill for Team Leaders
DESCRIPTION:Conflicts take place wherever people work together\, whether  in a professional\, social\, religious or  voluntary environment. As human beings\, we all have different opinions\, different preferences\, different likes and dislikes\, and of course\, different personalities. \nWhen there are disagreements\, there is loss of time\, lack of productivity\, and lack of progress\, not to mention the ill feelings which accompany the interactions. \nTeam Leaders need to be equipped with the interpersonal skills and the knowledge to be able to diffuse conflicts\, to find agreements that satisfy all parties and to bring out the best in their members. \nAlice Thomas-Roberts will facilitate an online course titled ‘Managing Conflict Within Your Team: A Necessary Skill for Team Leaders’  \nWhether you’re a Manager or Supervisor in the work environment\, a Group leader in a volunteer community club or church committee\, this three week online course would be relevant to you. \nThis course will look at Different types of conflict\, Interpersonal Skills\, Effective Meeting Management\, Resolution Skills\, The Conflict Resolution Process\, Mediation\, and Accountability of the parties involved. \nThere will be opportunities to discuss\, practise and evaluate real life scenarios\, as well as to build own your interpersonal skills. \nThis online course would be held in three sessions on May 3rd\, 10th and 17th from 5:00 p.m to 6:30 p.m. each evening. \nParticipants attending this course are entitled to a Certificate of Participation. Attending all sessions is a requirement to receiving a Certificate of Achievement at the end of the Course. \nWho should attend? \nAnyone who \n\nsupervises others\nchairs meetings\nleads a committee\nwants to build their interpersonal skills\nwants to better understand meeting management\nis preparing for leadership roles\n\nExpectations \nParticipants will finish this course \n\nunderstanding why conflicts develop\nhaving a better understanding of themselves and their own personalities\nbeing able to strengthen their leadership skills\nknowing how to host and manage more effective meetings\nknowing how to relate to different personalities\nunderstanding various strategies for resolving conflicts\nknowing how to mitigate disagreements before they mushroom into conflicts\n\nCost \nThe per person cost for this online 3 week course is US $60. \nFor more information\, and to register\, interested persons should complete the Contact Form below or call (473) 405 0027. \n\n\n\n\nName(required)\n\n	\n\n\nEmail(required)\n\n	\n\n\nWebsite\n\n	\n\n\nMessage\n\n	\n	\n		Submit		\n		\n		\n	 \nΔ
URL:https://protocolcaribbean.com/event/online-course-managing-conflict-within-your-team-a-necessary-skill-for-team-leaders/
LOCATION:Via Zoom
ATTACH;FMTTYPE=image/jpeg:https://protocolcaribbean.com/wp-content/uploads/2021/04/IMG-20200629-WA0012-4.jpg
ORGANIZER;CN="Alice%20Thomas-Roberts":MAILTO:amthomasroberts@gmail.com
END:VEVENT
END:VCALENDAR