BEGIN:VCALENDAR
VERSION:2.0
PRODID:-//Protocol Caribbean - ECPv5.14.1//NONSGML v1.0//EN
CALSCALE:GREGORIAN
METHOD:PUBLISH
X-WR-CALNAME:Protocol Caribbean
X-ORIGINAL-URL:https://protocolcaribbean.com
X-WR-CALDESC:Events for Protocol Caribbean
BEGIN:VTIMEZONE
TZID:America/Grenada
BEGIN:STANDARD
TZOFFSETFROM:-0400
TZOFFSETTO:-0400
TZNAME:AST
DTSTART:20200101T000000
END:STANDARD
END:VTIMEZONE
BEGIN:VEVENT
DTSTART;TZID=America/Grenada:20201107T093000
DTEND;TZID=America/Grenada:20201107T153000
DTSTAMP:20260421T100117
CREATED:20201028T145554Z
LAST-MODIFIED:20201028T145554Z
UID:210921-1604741400-1604763000@protocolcaribbean.com
SUMMARY:Protocol for Event Organizers and Ushers
DESCRIPTION:Upcoming one day Protocol workshop – Saturday 7th November\, 2020.\n\nA Practical experience that will provide participants with the knowledge\, skills and confidence to organize and work at activities hosted by their social groups\, volunteer organizations\, workplaces and churches.\n\nParticipants will work on Preparing Formal Invitations\, Planning Programmes and Preparing Seating Plans; and will have a simulation exercise\, meeting\, greeting and seating an audience.\n\nThey will leave having a better understanding of how to address Government dignitaries\, diplomats\, senior public officials and audiences in general\, how to use precedence to prepare seating plans and salutations lists; they will understand the difference between formal and informal invitations and who to send which to\, how to interpret a seating plan when ushering\, and the dos and don’ts of ushering.\n\nRegistration is now open. For more information or to register complete the contact form below. \n\n\n\n\nName(required)\n\n	\n\n\nEmail(required)\n\n	\n\n\nWebsite\n\n	\n\n\nMessage\n\n	\n	\n		Submit		\n		\n		\n	 \nΔ
URL:https://protocolcaribbean.com/event/protocol-for-event-organizers-ushers/
LOCATION:Alice Roberts Meeting Room\, Tempe\, St. George\, -------\, -------\, Grenada
CATEGORIES:Protocol
ATTACH;FMTTYPE=image/jpeg:https://protocolcaribbean.com/wp-content/uploads/2018/09/IMG_20160227_140148-2.jpg
ORGANIZER;CN="Alice%20Thomas-Roberts":MAILTO:amthomasroberts@gmail.com
END:VEVENT
END:VCALENDAR