BEGIN:VCALENDAR
VERSION:2.0
PRODID:-//Protocol Caribbean - ECPv5.14.1//NONSGML v1.0//EN
CALSCALE:GREGORIAN
METHOD:PUBLISH
X-WR-CALNAME:Protocol Caribbean
X-ORIGINAL-URL:https://protocolcaribbean.com
X-WR-CALDESC:Events for Protocol Caribbean
BEGIN:VTIMEZONE
TZID:America/Grenada
BEGIN:STANDARD
TZOFFSETFROM:-0400
TZOFFSETTO:-0400
TZNAME:AST
DTSTART:20190101T000000
END:STANDARD
END:VTIMEZONE
BEGIN:VEVENT
DTSTART;TZID=America/Grenada:20190729T090000
DTEND;TZID=America/Grenada:20190802T123000
DTSTAMP:20260421T082217
CREATED:20190114T171202Z
LAST-MODIFIED:20190114T172008Z
UID:210861-1564390800-1564749000@protocolcaribbean.com
SUMMARY:Teen Etiquette and Social Skills Workshop
DESCRIPTION:Our Teen Etiquette and Social Skills Workshop is hosted for  one week during the summer holidays by Alice Thomas-Roberts and her team of experienced teachers. Alice Thomas-Roberts is a Training and Development Consultant with years of experience as Chief of Protocol and Senior Foreign Service Officer in the Ministry of Foreign Affairs and as Executive Director of the Grenada Hotel and Tourism Association\, a private sector organization. She has also managed her own consultancy for several years offering training programmes for personal and professional development to employers for their staff\, as well as for groups\, organizations\, and individuals\, including children and teens.    https://protocolcaribbean.com/workshops/ \nThis one week workshop caters for teens from ages 13 – 17 years\, and is designed to be a highly interactive fun learning experience\, with sessions on Courtesies for Every Day Life\,  Digital Manners\, Conversation Skills\, Gestures and Body Language\, Appearance\, Image and Attire\, Managing Time\, Poise\, Confidence and Self Esteem\, Individualism and Peer Pressure\, Team Spirit and Inclusiveness and Dining Out\, and other topics relevant for teens. \nActivities will include mini presentations\, role plays\, outings\, and appropriate videos to watch and evaluate. \nIn a world where there are so many negatives\, Teens with good manners will stand out\, command more respect\, and will be the first ones to be recommended by their teachers and others in positions of influence in their communities\, and naturally\, they will be the ones  who will do well\, socially and academically. https://traineralice.wordpress.com/ \nDates: Mon 29th July – Friday 2nd August\, 2019 \nTime: 9:00 a.m – 12:30 p.m daily \nVenue: TBD \nCost: EC $150 per Teen. Teens may also be registered for specific days for a per day fee.                                                                     \nCertificates of Participation will be presented to each teen at the end of this workshop. \nParents are also welcome to contribute or part-sponsor the workshop in lieu of payment for their teen. \nFor more information or to register your teenager\, complete the contact form below\, or call 473 405 0027 or email amthomasroberts@gmail.com. \nTeens should be registered by 1st July\, 2019. \n\n\n\n\nName(required)\n\n	\n\n\nEmail(required)\n\n	\n\n\nWebsite\n\n	\n\n\nMessage\n\n	\n	\n		Submit		\n		\n		\n	 \nΔ
URL:https://protocolcaribbean.com/event/workshop-teen-etiquette-social-skills/
ATTACH;FMTTYPE=image/jpeg:https://protocolcaribbean.com/wp-content/uploads/2019/01/Working-on-their-Journals.jpg
ORGANIZER;CN="Alice%20Thomas-Roberts":MAILTO:amthomasroberts@gmail.com
END:VEVENT
END:VCALENDAR